BEGIN:VCALENDAR
VERSION:2.0
PRODID:-//wp-events-plugin.com//5.99912//EN
TZID:America/Toronto
X-WR-TIMEZONE:America/Toronto
BEGIN:VEVENT
UID:969@festivalstoronto.com
DTSTART;TZID=America/Toronto;VALUE=DATE:20260522
DTEND;TZID=America/Toronto;VALUE=DATE:20260525
DTSTAMP:20250529T163425Z
URL:https://festivalstoronto.com/events/barrie-waterfront-festival/
SUMMARY:Barrie Waterfront Festival - May 22\, 2026 - May 24\, 2026 - Centen
 nial Park
DESCRIPTION:The Barrie Waterfront Festival returns to Centennial Park with 
 amazing musical acts\, food trucks\, children’s fun zone and more!
ATTACH;FMTTYPE=image/jpeg:https://festivalstoronto.com/wp-content/uploads/
 2023/12/BWF-logo.jpg
CATEGORIES:Festivals,Kids
LOCATION:Centennial Park\, Lakeshore Drive\, Barrie\, ON\, L4N 2M6
X-APPLE-STRUCTURED-LOCATION;VALUE=URI;X-ADDRESS=Lakeshore Drive\, Barrie\, 
 ON\, L4N 2M6\, Canada;X-APPLE-RADIUS=100;X-TITLE=Centennial Park:geo:0,0
END:VEVENT
BEGIN:VTIMEZONE
TZID:America/Toronto
X-LIC-LOCATION:America/Toronto
BEGIN:DAYLIGHT
DTSTART:20260308T030000
TZOFFSETFROM:-0500
TZOFFSETTO:-0400
TZNAME:EDT
END:DAYLIGHT
END:VTIMEZONE
END:VCALENDAR