BEGIN:VCALENDAR
VERSION:2.0
PRODID:-//wp-events-plugin.com//5.99912//EN
TZID:America/Toronto
X-WR-TIMEZONE:America/Toronto
BEGIN:VEVENT
UID:968@festivalstoronto.com
DTSTART;TZID=America/Toronto;VALUE=DATE:20260523
DTEND;TZID=America/Toronto;VALUE=DATE:20260525
DTSTAMP:20251212T175702Z
URL:https://festivalstoronto.com/events/carassauga/
SUMMARY:Carassauga - May 23\, 2026 - May 24\, 2026 - 
DESCRIPTION:Carassauga: Mississauga's Festival of Cultures - Your chance to
  travel the world. Visit over 60+ cultures in just 3 days without leaving 
 the city!
ATTACH;FMTTYPE=image/jpeg:https://festivalstoronto.com/wp-content/uploads/
 2019/02/carassauga-logo.jpg
CATEGORIES:Festivals
END:VEVENT
BEGIN:VTIMEZONE
TZID:America/Toronto
X-LIC-LOCATION:America/Toronto
BEGIN:DAYLIGHT
DTSTART:20260308T030000
TZOFFSETFROM:-0500
TZOFFSETTO:-0400
TZNAME:EDT
END:DAYLIGHT
END:VTIMEZONE
END:VCALENDAR