BEGIN:VCALENDAR
VERSION:2.0
PRODID:-//wp-events-plugin.com//5.99912//EN
TZID:America/Toronto
X-WR-TIMEZONE:America/Toronto
BEGIN:VEVENT
UID:802@festivalstoronto.com
DTSTART;TZID=America/Toronto;VALUE=DATE:20260501
DTEND;TZID=America/Toronto;VALUE=DATE:20260601
DTSTAMP:20251212T173725Z
URL:https://festivalstoronto.com/events/contact-photography-festival/
SUMMARY:CONTACT Photography Festival - May 1\, 2026 - May 31\, 2026 - 
DESCRIPTION:CONTACT Photography Festival – the world’s largest photogra
 phy event of its kind – returns to Toronto. 
ATTACH;FMTTYPE=image/jpeg:https://festivalstoronto.com/wp-content/uploads/
 2025/01/contact-photography.jpg
CATEGORIES:Visual Arts
END:VEVENT
BEGIN:VTIMEZONE
TZID:America/Toronto
X-LIC-LOCATION:America/Toronto
BEGIN:DAYLIGHT
DTSTART:20260308T030000
TZOFFSETFROM:-0500
TZOFFSETTO:-0400
TZNAME:EDT
END:DAYLIGHT
END:VTIMEZONE
END:VCALENDAR