BEGIN:VCALENDAR
VERSION:2.0
PRODID:-//wp-events-plugin.com//5.99912//EN
TZID:America/Toronto
X-WR-TIMEZONE:America/Toronto
BEGIN:VEVENT
UID:1292@festivalstoronto.com
DTSTART;TZID=America/Toronto:20260426T110000
DTEND;TZID=America/Toronto:20260426T160000
DTSTAMP:20251208T194528Z
URL:https://festivalstoronto.com/events/ecofair-toronto/
SUMMARY:EcoFair Toronto - Apr 26\, 2026 - Evergreen Brick Works
DESCRIPTION:The Annual EcoFair Toronto is a FREE\, family-friendly event th
 at informs & inspires people to make greener choices in their homes & comm
 unities
ATTACH;FMTTYPE=image/jpeg:https://festivalstoronto.com/wp-content/uploads/
 2023/08/EcoFair-Toronto-logo.jpg
CATEGORIES:Consumer Shows
LOCATION:Evergreen Brick Works\, 550 Bayview Ave\, Toronto\, ON
GEO:43.6846635;-79.36599569999998
X-APPLE-STRUCTURED-LOCATION;VALUE=URI;X-ADDRESS=550 Bayview Ave\, Toronto\,
  ON\, Canada;X-APPLE-RADIUS=100;X-TITLE=Evergreen Brick Works:geo:43.68466
 35,-79.36599569999998
END:VEVENT
BEGIN:VTIMEZONE
TZID:America/Toronto
X-LIC-LOCATION:America/Toronto
BEGIN:DAYLIGHT
DTSTART:20260308T030000
TZOFFSETFROM:-0500
TZOFFSETTO:-0400
TZNAME:EDT
END:DAYLIGHT
END:VTIMEZONE
END:VCALENDAR