BEGIN:VCALENDAR
VERSION:2.0
PRODID:-//wp-events-plugin.com//5.99912//EN
TZID:America/Toronto
X-WR-TIMEZONE:America/Toronto
BEGIN:VEVENT
UID:1903@festivalstoronto.com
DTSTART;TZID=America/Toronto;VALUE=DATE:20260610
DTEND;TZID=America/Toronto;VALUE=DATE:20260612
DTSTAMP:20251212T180054Z
URL:https://festivalstoronto.com/events/halal-expo-canada/
SUMMARY:Halal Expo Canada - Jun 10\, 2026 - Jun 11\, 2026 - The Internation
 al Centre
DESCRIPTION:Halal Expo Canada gathers the highest quality products and serv
 ices of the Halal industry
ATTACH;FMTTYPE=image/jpeg:https://festivalstoronto.com/wp-content/uploads/
 2023/03/Halal-Expo-Canada-logo.jpg
CATEGORIES:Consumer Shows,Expo
LOCATION:The International Centre\, 6900 Airport Rd\, Mississauga\, ON\, L4
 V 1E8
GEO:43.703389;-79.63741
X-APPLE-STRUCTURED-LOCATION;VALUE=URI;X-ADDRESS=6900 Airport Rd\, Mississau
 ga\, ON\, L4V 1E8\, Canada;X-APPLE-RADIUS=100;X-TITLE=The International Ce
 ntre:geo:43.703389,-79.63741
END:VEVENT
BEGIN:VTIMEZONE
TZID:America/Toronto
X-LIC-LOCATION:America/Toronto
BEGIN:DAYLIGHT
DTSTART:20260308T030000
TZOFFSETFROM:-0500
TZOFFSETTO:-0400
TZNAME:EDT
END:DAYLIGHT
END:VTIMEZONE
END:VCALENDAR