BEGIN:VCALENDAR
VERSION:2.0
PRODID:-//wp-events-plugin.com//5.99912//EN
TZID:America/Toronto
X-WR-TIMEZONE:America/Toronto
BEGIN:VEVENT
UID:957@festivalstoronto.com
DTSTART;TZID=America/Toronto;VALUE=DATE:20260423
DTEND;TZID=America/Toronto;VALUE=DATE:20260504
DTSTAMP:20251212T173241Z
URL:https://festivalstoronto.com/events/hot-docs-festival/
SUMMARY:Hot Docs Festival - Apr 23\, 2026 - May 3\, 2026 - Hot Docs Ted Rog
 ers Cinema
DESCRIPTION:Hot Docs Festival is North America's largest documentary festiv
 al\, conference and market bringing documentaries from Canada and around t
 he world to Toronto.
ATTACH;FMTTYPE=image/jpeg:https://festivalstoronto.com/wp-content/uploads/
 2017/03/hotdocs.jpg
CATEGORIES:Film
LOCATION:Hot Docs Ted Rogers Cinema\, 506 Bloor St W\, Toronto
GEO:43.6654163;-79.41038530000003
X-APPLE-STRUCTURED-LOCATION;VALUE=URI;X-ADDRESS=506 Bloor St W\, Toronto\, 
 Canada;X-APPLE-RADIUS=100;X-TITLE=Hot Docs Ted Rogers Cinema:geo:43.665416
 3,-79.41038530000003
END:VEVENT
BEGIN:VTIMEZONE
TZID:America/Toronto
X-LIC-LOCATION:America/Toronto
BEGIN:DAYLIGHT
DTSTART:20260308T030000
TZOFFSETFROM:-0500
TZOFFSETTO:-0400
TZNAME:EDT
END:DAYLIGHT
END:VTIMEZONE
END:VCALENDAR