BEGIN:VCALENDAR
VERSION:2.0
PRODID:-//wp-events-plugin.com//5.99912//EN
TZID:America/Toronto
X-WR-TIMEZONE:America/Toronto
BEGIN:VEVENT
UID:1115@festivalstoronto.com
DTSTART;TZID=America/Toronto;VALUE=DATE:20260602
DTEND;TZID=America/Toronto;VALUE=DATE:20260608
DTSTAMP:20251212T181111Z
URL:https://festivalstoronto.com/events/imaginenative-film-media-arts-fest
 ival/
SUMMARY:imagineNATIVE Film + Media Arts Festival - Jun 2\, 2026 - Jun 7\, 2
 026 - 
DESCRIPTION:The imagineNATIVE Film + Media Arts Festival takes place in Tor
 onto from June 2-7\, 2026 (in-person) and June 8-14\, 2026 (online)
ATTACH;FMTTYPE=image/jpeg:https://festivalstoronto.com/wp-content/uploads/
 2017/07/imagineNATIVE.jpg
CATEGORIES:Film
END:VEVENT
BEGIN:VTIMEZONE
TZID:America/Toronto
X-LIC-LOCATION:America/Toronto
BEGIN:DAYLIGHT
DTSTART:20260308T030000
TZOFFSETFROM:-0500
TZOFFSETTO:-0400
TZNAME:EDT
END:DAYLIGHT
END:VTIMEZONE
END:VCALENDAR