BEGIN:VCALENDAR
VERSION:2.0
PRODID:-//wp-events-plugin.com//5.99912//EN
TZID:America/Toronto
X-WR-TIMEZONE:America/Toronto
BEGIN:VEVENT
UID:1346@festivalstoronto.com
DTSTART;TZID=America/Toronto;VALUE=DATE:20260524
DTEND;TZID=America/Toronto;VALUE=DATE:20260601
DTSTAMP:20251212T175226Z
URL:https://festivalstoronto.com/events/jewish-music-week/
SUMMARY:Jewish Music Week - May 24\, 2026 - May 31\, 2026 - 
DESCRIPTION:Jewish Music Week in Toronto is a week-long festival of concer
 ts\, recitals and musical events throughout the GTA. 
ATTACH;FMTTYPE=image/jpeg:https://festivalstoronto.com/wp-content/uploads/
 2023/04/JMW.jpg
CATEGORIES:Music,Performing Arts
END:VEVENT
BEGIN:VTIMEZONE
TZID:America/Toronto
X-LIC-LOCATION:America/Toronto
BEGIN:DAYLIGHT
DTSTART:20260308T030000
TZOFFSETFROM:-0500
TZOFFSETTO:-0400
TZNAME:EDT
END:DAYLIGHT
END:VTIMEZONE
END:VCALENDAR