BEGIN:VCALENDAR
VERSION:2.0
PRODID:-//wp-events-plugin.com//5.99912//EN
TZID:America/Toronto
X-WR-TIMEZONE:America/Toronto
BEGIN:VEVENT
UID:1056@festivalstoronto.com
DTSTART;TZID=America/Toronto;VALUE=DATE:20260605
DTEND;TZID=America/Toronto;VALUE=DATE:20260607
DTSTAMP:20251212T181400Z
URL:https://festivalstoronto.com/events/mississauga-polish-day/
SUMMARY:Mississauga Polish Day - Jun 5\, 2026 - Jun 6\, 2026 - Celebration 
 Square
DESCRIPTION:Mississauga Polish Day inspires Polish-Canadians to experience 
 a sense of pride in their culture and share their traditions with all othe
 r Canadians. 
ATTACH;FMTTYPE=image/jpeg:https://festivalstoronto.com/wp-content/uploads/
 2017/06/sauga-polish-day-logo.jpg
CATEGORIES:Festivals
LOCATION:Celebration Square\, 300 City Centre Dr\, MIssissauga\, ON
GEO:43.58877160000001;-79.64439470000002
X-APPLE-STRUCTURED-LOCATION;VALUE=URI;X-ADDRESS=300 City Centre Dr\, MIssis
 sauga\, ON\, Canada;X-APPLE-RADIUS=100;X-TITLE=Celebration Square:geo:43.5
 8877160000001,-79.64439470000002
END:VEVENT
BEGIN:VTIMEZONE
TZID:America/Toronto
X-LIC-LOCATION:America/Toronto
BEGIN:DAYLIGHT
DTSTART:20260308T030000
TZOFFSETFROM:-0500
TZOFFSETTO:-0400
TZNAME:EDT
END:DAYLIGHT
END:VTIMEZONE
END:VCALENDAR